BEGIN:VCALENDAR
VERSION:2.0
PRODID:-//MOAA Birmingham - ECPv6.15.17.1//NONSGML v1.0//EN
CALSCALE:GREGORIAN
METHOD:PUBLISH
X-ORIGINAL-URL:https://www.moaabirmingham.org
X-WR-CALDESC:Events for MOAA Birmingham
REFRESH-INTERVAL;VALUE=DURATION:PT1H
X-Robots-Tag:noindex
X-PUBLISHED-TTL:PT1H
BEGIN:VTIMEZONE
TZID:America/Chicago
BEGIN:DAYLIGHT
TZOFFSETFROM:-0600
TZOFFSETTO:-0500
TZNAME:CDT
DTSTART:20250309T080000
END:DAYLIGHT
BEGIN:STANDARD
TZOFFSETFROM:-0500
TZOFFSETTO:-0600
TZNAME:CST
DTSTART:20251102T070000
END:STANDARD
BEGIN:DAYLIGHT
TZOFFSETFROM:-0600
TZOFFSETTO:-0500
TZNAME:CDT
DTSTART:20260308T080000
END:DAYLIGHT
BEGIN:STANDARD
TZOFFSETFROM:-0500
TZOFFSETTO:-0600
TZNAME:CST
DTSTART:20261101T070000
END:STANDARD
BEGIN:DAYLIGHT
TZOFFSETFROM:-0600
TZOFFSETTO:-0500
TZNAME:CDT
DTSTART:20270314T080000
END:DAYLIGHT
BEGIN:STANDARD
TZOFFSETFROM:-0500
TZOFFSETTO:-0600
TZNAME:CST
DTSTART:20271107T070000
END:STANDARD
END:VTIMEZONE
BEGIN:VEVENT
DTSTART;TZID=America/Chicago:20260507T180000
DTEND;TZID=America/Chicago:20260507T200000
DTSTAMP:20260423T122920
CREATED:20260216T152637Z
LAST-MODIFIED:20260216T160756Z
UID:1430-1778176800-1778184000@www.moaabirmingham.org
SUMMARY:May 7th Dinner meeting
DESCRIPTION:May 7th @ 6:00 pm – 8:00 pm\n\n\n\nWe have a monthly meeting scheduled for today. \nThe meeting will begin at 6:00 P.M.\, dinner at 6:30 P.M. and conclude at 8:00 P.M. \nOur Guest/Speaker/Topic:  Det Austin Rosenow\, Hoover Police Department Fraud Division.  “Scams and Fraud” \nCost: ~$25 per person \nPayment: Prepay at https://www.moaabirmingham.org/rsvp-monthly-meeting-dinner/ or pay at the door with check or cash. \nLocation: Danberry at Inverness\, 235 Inverness Center Drive\, Birmingham\, AL 35242
URL:https://www.moaabirmingham.org/event/may-7th-dinner-meeting/
LOCATION:Monthly dinner meeting\, 235 Inverness Center Dr\, Birmingham\, AL\, 35242\, United States
END:VEVENT
END:VCALENDAR