BEGIN:VCALENDAR
VERSION:2.0
PRODID:-//MOAA Birmingham - ECPv6.15.17.1//NONSGML v1.0//EN
CALSCALE:GREGORIAN
METHOD:PUBLISH
X-WR-CALNAME:MOAA Birmingham
X-ORIGINAL-URL:https://www.moaabirmingham.org
X-WR-CALDESC:Events for MOAA Birmingham
REFRESH-INTERVAL;VALUE=DURATION:PT1H
X-Robots-Tag:noindex
X-PUBLISHED-TTL:PT1H
BEGIN:VTIMEZONE
TZID:America/Chicago
BEGIN:DAYLIGHT
TZOFFSETFROM:-0600
TZOFFSETTO:-0500
TZNAME:CDT
DTSTART:20240310T080000
END:DAYLIGHT
BEGIN:STANDARD
TZOFFSETFROM:-0500
TZOFFSETTO:-0600
TZNAME:CST
DTSTART:20241103T070000
END:STANDARD
BEGIN:DAYLIGHT
TZOFFSETFROM:-0600
TZOFFSETTO:-0500
TZNAME:CDT
DTSTART:20250309T080000
END:DAYLIGHT
BEGIN:STANDARD
TZOFFSETFROM:-0500
TZOFFSETTO:-0600
TZNAME:CST
DTSTART:20251102T070000
END:STANDARD
BEGIN:DAYLIGHT
TZOFFSETFROM:-0600
TZOFFSETTO:-0500
TZNAME:CDT
DTSTART:20260308T080000
END:DAYLIGHT
BEGIN:STANDARD
TZOFFSETFROM:-0500
TZOFFSETTO:-0600
TZNAME:CST
DTSTART:20261101T070000
END:STANDARD
END:VTIMEZONE
BEGIN:VEVENT
DTSTART;TZID=America/Chicago:20250807T113000
DTEND;TZID=America/Chicago:20250807T133000
DTSTAMP:20260423T234512
CREATED:20241218T221721Z
LAST-MODIFIED:20241218T221745Z
UID:1252-1754566200-1754573400@www.moaabirmingham.org
SUMMARY:August 7 Lunch Meeting
DESCRIPTION:We will have a summer social gathering today for lunch at a conveniently located restaurant.  We will meet at 11:30 and usually be finished by 1:30.  No program or guest speaker\, just good food and conversation! \nCost:  Buy your own \nLocation: TBD.  May vary month to month.
URL:https://www.moaabirmingham.org/event/august-7-lunch-meeting/
LOCATION:Monthly lunch meeting
END:VEVENT
BEGIN:VEVENT
DTSTART;VALUE=DATE:20250822
DTEND;VALUE=DATE:20250825
DTSTAMP:20260423T234512
CREATED:20250129T165313Z
LAST-MODIFIED:20250129T170419Z
UID:1307-1755820800-1756079999@www.moaabirmingham.org
SUMMARY:AL Council of Chapters state meeting Aug 22-24
DESCRIPTION:The MOAA Council of Chapters will be holding an annual meeting in Birmingham\, hosted by the Greater Birmingham Chapter of MOAA.  More details available soon! \nDates:  August 22-24 \nLocation:  TBD \nItinerary and meeting details:  Will be posted when available. \nRegistration and cost:  TBD
URL:https://www.moaabirmingham.org/event/al-council-of-chapters-state-meeting-aug-22-25/
LOCATION:AL
END:VEVENT
END:VCALENDAR