BEGIN:VCALENDAR
VERSION:2.0
PRODID:-//MOAA Birmingham - ECPv6.15.17.1//NONSGML v1.0//EN
CALSCALE:GREGORIAN
METHOD:PUBLISH
X-ORIGINAL-URL:https://www.moaabirmingham.org
X-WR-CALDESC:Events for MOAA Birmingham
REFRESH-INTERVAL;VALUE=DURATION:PT1H
X-Robots-Tag:noindex
X-PUBLISHED-TTL:PT1H
BEGIN:VTIMEZONE
TZID:America/Chicago
BEGIN:DAYLIGHT
TZOFFSETFROM:-0600
TZOFFSETTO:-0500
TZNAME:CDT
DTSTART:20240310T080000
END:DAYLIGHT
BEGIN:STANDARD
TZOFFSETFROM:-0500
TZOFFSETTO:-0600
TZNAME:CST
DTSTART:20241103T070000
END:STANDARD
BEGIN:DAYLIGHT
TZOFFSETFROM:-0600
TZOFFSETTO:-0500
TZNAME:CDT
DTSTART:20250309T080000
END:DAYLIGHT
BEGIN:STANDARD
TZOFFSETFROM:-0500
TZOFFSETTO:-0600
TZNAME:CST
DTSTART:20251102T070000
END:STANDARD
BEGIN:DAYLIGHT
TZOFFSETFROM:-0600
TZOFFSETTO:-0500
TZNAME:CDT
DTSTART:20260308T080000
END:DAYLIGHT
BEGIN:STANDARD
TZOFFSETFROM:-0500
TZOFFSETTO:-0600
TZNAME:CST
DTSTART:20261101T070000
END:STANDARD
END:VTIMEZONE
BEGIN:VEVENT
DTSTART;TZID=America/Chicago:20250605T160000
DTEND;TZID=America/Chicago:20250605T180000
DTSTAMP:20260424T030057
CREATED:20241218T221216Z
LAST-MODIFIED:20241218T221216Z
UID:1247-1749139200-1749146400@www.moaabirmingham.org
SUMMARY:June 5 Annual Chapter Picnic
DESCRIPTION:We will have our annual picnic today at Veteran’s Park on Valleydale Road \nWe will meet 4:00 P.M.\, with BBQ and short program at 4:30 P.M. and conclude 6:00 P.M. \nOur Guest/Speaker/Topic:   None planned \nCost: ~$15-20 per person (Will vary per caterer cost) \nPayment: Prepay at https://www.moaabirmingham.org/rsvp-monthly-meeting-dinner/ or pay at the door with check or cash. \nLocation: Veterans Park\, 4800 Valleydale Road\, main pavilion.
URL:https://www.moaabirmingham.org/event/june-5-annual-chapter-picnic/
LOCATION:Annual Picnic\, 4800 Valleydale Rd\, Hoover\, 35242\, United States
END:VEVENT
END:VCALENDAR