BEGIN:VCALENDAR
VERSION:2.0
PRODID:-//MOAA Birmingham - ECPv6.15.17.1//NONSGML v1.0//EN
CALSCALE:GREGORIAN
METHOD:PUBLISH
X-WR-CALNAME:MOAA Birmingham
X-ORIGINAL-URL:https://www.moaabirmingham.org
X-WR-CALDESC:Events for MOAA Birmingham
REFRESH-INTERVAL;VALUE=DURATION:PT1H
X-Robots-Tag:noindex
X-PUBLISHED-TTL:PT1H
BEGIN:VTIMEZONE
TZID:America/Chicago
BEGIN:DAYLIGHT
TZOFFSETFROM:-0600
TZOFFSETTO:-0500
TZNAME:CDT
DTSTART:20230312T080000
END:DAYLIGHT
BEGIN:STANDARD
TZOFFSETFROM:-0500
TZOFFSETTO:-0600
TZNAME:CST
DTSTART:20231105T070000
END:STANDARD
BEGIN:DAYLIGHT
TZOFFSETFROM:-0600
TZOFFSETTO:-0500
TZNAME:CDT
DTSTART:20240310T080000
END:DAYLIGHT
BEGIN:STANDARD
TZOFFSETFROM:-0500
TZOFFSETTO:-0600
TZNAME:CST
DTSTART:20241103T070000
END:STANDARD
BEGIN:DAYLIGHT
TZOFFSETFROM:-0600
TZOFFSETTO:-0500
TZNAME:CDT
DTSTART:20250309T080000
END:DAYLIGHT
BEGIN:STANDARD
TZOFFSETFROM:-0500
TZOFFSETTO:-0600
TZNAME:CST
DTSTART:20251102T070000
END:STANDARD
END:VTIMEZONE
BEGIN:VEVENT
DTSTART;TZID=America/Chicago:20240606T040000
DTEND;TZID=America/Chicago:20240606T180000
DTSTAMP:20260424T225801
CREATED:20240414T230005Z
LAST-MODIFIED:20240414T230049Z
UID:1144-1717646400-1717696800@www.moaabirmingham.org
SUMMARY:June 6th Annual MOAA picnic
DESCRIPTION:We have a monthly meeting scheduled for today. \nThe meeting will begin at 4:00 P.M. and conclude at 6:00 P.M. \nVenue:  Full Moon BBQ!  And lots of fun & conversation (no speaker). \nLocation:  Veterans Park on Valleydale Rd. \nCost: ~$20 per person (May vary per caterer cost) \nPayment: Prepay at https://www.moaabirmingham.org/rsvp-monthly-meeting-dinner/ or pay at the door with check or cash.
URL:https://www.moaabirmingham.org/event/june-6th-annual-moaa-picnic/
LOCATION:AL
END:VEVENT
END:VCALENDAR