BEGIN:VCALENDAR
VERSION:2.0
PRODID:-//MOAA Birmingham - ECPv6.15.17.1//NONSGML v1.0//EN
CALSCALE:GREGORIAN
METHOD:PUBLISH
X-WR-CALNAME:MOAA Birmingham
X-ORIGINAL-URL:https://www.moaabirmingham.org
X-WR-CALDESC:Events for MOAA Birmingham
REFRESH-INTERVAL;VALUE=DURATION:PT1H
X-Robots-Tag:noindex
X-PUBLISHED-TTL:PT1H
BEGIN:VTIMEZONE
TZID:America/Chicago
BEGIN:DAYLIGHT
TZOFFSETFROM:-0600
TZOFFSETTO:-0500
TZNAME:CDT
DTSTART:20250309T080000
END:DAYLIGHT
BEGIN:STANDARD
TZOFFSETFROM:-0500
TZOFFSETTO:-0600
TZNAME:CST
DTSTART:20251102T070000
END:STANDARD
BEGIN:DAYLIGHT
TZOFFSETFROM:-0600
TZOFFSETTO:-0500
TZNAME:CDT
DTSTART:20260308T080000
END:DAYLIGHT
BEGIN:STANDARD
TZOFFSETFROM:-0500
TZOFFSETTO:-0600
TZNAME:CST
DTSTART:20261101T070000
END:STANDARD
BEGIN:DAYLIGHT
TZOFFSETFROM:-0600
TZOFFSETTO:-0500
TZNAME:CDT
DTSTART:20270314T080000
END:DAYLIGHT
BEGIN:STANDARD
TZOFFSETFROM:-0500
TZOFFSETTO:-0600
TZNAME:CST
DTSTART:20271107T070000
END:STANDARD
END:VTIMEZONE
BEGIN:VEVENT
DTSTART;TZID=America/Chicago:20260806T113000
DTEND;TZID=America/Chicago:20260806T133000
DTSTAMP:20260423T181734
CREATED:20260216T154200Z
LAST-MODIFIED:20260216T154214Z
UID:1437-1786015800-1786023000@www.moaabirmingham.org
SUMMARY:August summer luncheon
DESCRIPTION:August 6th\, 11:30 to 1:30 \nWe will have a summer social gathering today for lunch at a conveniently located restaurant.  We will meet at 11:30 and usually be finished by 1:30.  No program or guest speaker\, just good food and conversation! \nCost:  Buy your own \nLocation: TBD.  May vary month to month.
URL:https://www.moaabirmingham.org/event/august-summer-luncheon/
LOCATION:Summer picnic\, 4800 Valleydale Rd\, Hoover\, AL\, 35242\, United States
END:VEVENT
END:VCALENDAR